BEGIN:VCALENDAR
VERSION:2.0
PRODID:-//Empire and Empathy - Vintage Photographs of Russia - ECPv5.0.0.2//NONSGML v1.0//EN
CALSCALE:GREGORIAN
METHOD:PUBLISH
X-WR-CALNAME:Empire and Empathy - Vintage Photographs of Russia
X-ORIGINAL-URL:https://www.empireandempathy.org
X-WR-CALDESC:Events for Empire and Empathy - Vintage Photographs of Russia
BEGIN:VTIMEZONE
TZID:America/New_York
BEGIN:DAYLIGHT
TZOFFSETFROM:-0500
TZOFFSETTO:-0400
TZNAME:EDT
DTSTART:20120311T070000
END:DAYLIGHT
BEGIN:STANDARD
TZOFFSETFROM:-0400
TZOFFSETTO:-0500
TZNAME:EST
DTSTART:20121104T060000
END:STANDARD
END:VTIMEZONE
BEGIN:VEVENT
DTSTART;TZID=America/New_York:20120623T080000
DTEND;TZID=America/New_York:20120908T170059
DTSTAMP:20260423T163141
CREATED:20120801T082607Z
LAST-MODIFIED:20120801T082607Z
UID:316-1340438400-1347123659@www.empireandempathy.org
SUMMARY:Museum of Arts and Sciences\, Daytona Beach\, FL
DESCRIPTION:
URL:https://www.empireandempathy.org/event/museum-of-arts-and-sciences-daytona-beach-fl/
END:VEVENT
END:VCALENDAR